BEGIN:VCALENDAR
VERSION:2.0
PRODID:-//Aspire to Ascend Foundation - ECPv6.15.20//NONSGML v1.0//EN
CALSCALE:GREGORIAN
METHOD:PUBLISH
X-WR-CALNAME:Aspire to Ascend Foundation
X-ORIGINAL-URL:https://aspiretoascendfoundation.org
X-WR-CALDESC:Events for Aspire to Ascend Foundation
REFRESH-INTERVAL;VALUE=DURATION:PT1H
X-Robots-Tag:noindex
X-PUBLISHED-TTL:PT1H
BEGIN:VTIMEZONE
TZID:America/Los_Angeles
BEGIN:DAYLIGHT
TZOFFSETFROM:-0800
TZOFFSETTO:-0700
TZNAME:PDT
DTSTART:20220313T100000
END:DAYLIGHT
BEGIN:STANDARD
TZOFFSETFROM:-0700
TZOFFSETTO:-0800
TZNAME:PST
DTSTART:20221106T090000
END:STANDARD
BEGIN:DAYLIGHT
TZOFFSETFROM:-0800
TZOFFSETTO:-0700
TZNAME:PDT
DTSTART:20230312T100000
END:DAYLIGHT
BEGIN:STANDARD
TZOFFSETFROM:-0700
TZOFFSETTO:-0800
TZNAME:PST
DTSTART:20231105T090000
END:STANDARD
BEGIN:DAYLIGHT
TZOFFSETFROM:-0800
TZOFFSETTO:-0700
TZNAME:PDT
DTSTART:20240310T100000
END:DAYLIGHT
BEGIN:STANDARD
TZOFFSETFROM:-0700
TZOFFSETTO:-0800
TZNAME:PST
DTSTART:20241103T090000
END:STANDARD
END:VTIMEZONE
BEGIN:VEVENT
DTSTART;TZID=America/Los_Angeles:20230722T100000
DTEND;TZID=America/Los_Angeles:20230722T140000
DTSTAMP:20260423T111037
CREATED:20230721T170518Z
LAST-MODIFIED:20230721T171236Z
UID:1890-1690020000-1690034400@aspiretoascendfoundation.org
SUMMARY:Youth Fit Fair
DESCRIPTION:Join Us for FREE Basic Screenings\,  Open to the public. \n  \nFeatured Host: Aspire 2 Ascend Foundation \nAspire 2 Ascend Foundation works to empower at-risk and under resourced student athletes by providing free clinics and financial sponsorship to cover expenses associated with their sport. Our mission is committed to the development of student athletes\, equally through the enhancement of life skills as well as the improvement of athletic and academic performance. \n  \nFeatured Sponsors: Silver Summit HealthPlan\, Liberty Dental Plan & Las Vegas Metropolitan Police Department.
URL:https://aspiretoascendfoundation.org/event/youth-fit-fair/
LOCATION:Hollywood Rec Center\, 1650 S Hollywood Blvd\, Las Vegas\, NV\, 89142\, United States
END:VEVENT
END:VCALENDAR